BEGIN:VCALENDAR
VERSION:2.0
PRODID:-//Salem High School - ECPv6.15.18//NONSGML v1.0//EN
CALSCALE:GREGORIAN
METHOD:PUBLISH
X-WR-CALNAME:Salem High School
X-ORIGINAL-URL:https://spssalemhs.salemk12.org
X-WR-CALDESC:Events for Salem High School
REFRESH-INTERVAL;VALUE=DURATION:PT1H
X-Robots-Tag:noindex
X-PUBLISHED-TTL:PT1H
BEGIN:VTIMEZONE
TZID:America/New_York
BEGIN:DAYLIGHT
TZOFFSETFROM:-0500
TZOFFSETTO:-0400
TZNAME:EDT
DTSTART:20210314T070000
END:DAYLIGHT
BEGIN:STANDARD
TZOFFSETFROM:-0400
TZOFFSETTO:-0500
TZNAME:EST
DTSTART:20211107T060000
END:STANDARD
BEGIN:DAYLIGHT
TZOFFSETFROM:-0500
TZOFFSETTO:-0400
TZNAME:EDT
DTSTART:20220313T070000
END:DAYLIGHT
BEGIN:STANDARD
TZOFFSETFROM:-0400
TZOFFSETTO:-0500
TZNAME:EST
DTSTART:20221106T060000
END:STANDARD
BEGIN:DAYLIGHT
TZOFFSETFROM:-0500
TZOFFSETTO:-0400
TZNAME:EDT
DTSTART:20230312T070000
END:DAYLIGHT
BEGIN:STANDARD
TZOFFSETFROM:-0400
TZOFFSETTO:-0500
TZNAME:EST
DTSTART:20231105T060000
END:STANDARD
END:VTIMEZONE
BEGIN:VEVENT
DTSTART;VALUE=DATE:20220418
DTEND;VALUE=DATE:20220423
DTSTAMP:20260419T095232
CREATED:20220405T221425Z
LAST-MODIFIED:20220422T224319Z
UID:2394-1650240000-1650671999@spssalemhs.salemk12.org
SUMMARY:No School April Vacation
DESCRIPTION:
URL:https://spssalemhs.salemk12.org/event/no-school-april-vacation/
CATEGORIES:Salem High School
END:VEVENT
BEGIN:VEVENT
DTSTART;VALUE=DATE:20220415
DTEND;VALUE=DATE:20220416
DTSTAMP:20260419T095232
CREATED:20220405T221424Z
LAST-MODIFIED:20220415T222814Z
UID:2388-1649980800-1650067199@spssalemhs.salemk12.org
SUMMARY:Good Friday-No School
DESCRIPTION:
URL:https://spssalemhs.salemk12.org/event/good-friday-no-school/
CATEGORIES:Salem High School
END:VEVENT
BEGIN:VEVENT
DTSTART;TZID=America/New_York:20220414T110000
DTEND;TZID=America/New_York:20220414T130000
DTSTAMP:20260419T095232
CREATED:20220405T221413Z
LAST-MODIFIED:20220413T221354Z
UID:2387-1649934000-1649941200@spssalemhs.salemk12.org
SUMMARY:SHS Career Fair
DESCRIPTION:
URL:https://spssalemhs.salemk12.org/event/shs-career-fair/
CATEGORIES:Salem High School
END:VEVENT
BEGIN:VEVENT
DTSTART;VALUE=DATE:20220414
DTEND;VALUE=DATE:20220415
DTSTAMP:20260419T095232
CREATED:20220405T221424Z
LAST-MODIFIED:20220414T221414Z
UID:2389-1649894400-1649980799@spssalemhs.salemk12.org
SUMMARY:Report Cards Posted
DESCRIPTION:
URL:https://spssalemhs.salemk12.org/event/report-cards-posted/
CATEGORIES:Salem High School
END:VEVENT
BEGIN:VEVENT
DTSTART;VALUE=DATE:20220413
DTEND;VALUE=DATE:20220414
DTSTAMP:20260419T095232
CREATED:20220405T221413Z
LAST-MODIFIED:20220413T221354Z
UID:2386-1649808000-1649894399@spssalemhs.salemk12.org
SUMMARY:Faculty Meeting
DESCRIPTION:
URL:https://spssalemhs.salemk12.org/event/faculty-meeting/
CATEGORIES:Salem High School
END:VEVENT
BEGIN:VEVENT
DTSTART;VALUE=DATE:20220411
DTEND;VALUE=DATE:20220412
DTSTAMP:20260419T095232
CREATED:20220405T221413Z
LAST-MODIFIED:20220411T221317Z
UID:2385-1649635200-1649721599@spssalemhs.salemk12.org
SUMMARY:Grades Entered by Midnight
DESCRIPTION:
URL:https://spssalemhs.salemk12.org/event/grades-entered-by-midnight/
CATEGORIES:Salem High School
END:VEVENT
BEGIN:VEVENT
DTSTART;VALUE=DATE:20220408
DTEND;VALUE=DATE:20220409
DTSTAMP:20260419T095232
CREATED:20220405T221413Z
LAST-MODIFIED:20220408T221318Z
UID:2384-1649376000-1649462399@spssalemhs.salemk12.org
SUMMARY:Autism Acceptance Spirit Week: Day 5
DESCRIPTION:
URL:https://spssalemhs.salemk12.org/event/autism-acceptance-spirit-week-day-5/
CATEGORIES:Salem High School
END:VEVENT
BEGIN:VEVENT
DTSTART;TZID=America/New_York:20220407T190000
DTEND;TZID=America/New_York:20220407T203000
DTSTAMP:20260419T095232
CREATED:20211201T160852Z
LAST-MODIFIED:20220407T221412Z
UID:1604-1649358000-1649363400@spssalemhs.salemk12.org
SUMMARY:Tri-M Honor Society Showcase
DESCRIPTION:
URL:https://spssalemhs.salemk12.org/event/tri-m-honor-society-showcase/
CATEGORIES:Salem High School
END:VEVENT
BEGIN:VEVENT
DTSTART;VALUE=DATE:20220407
DTEND;VALUE=DATE:20220408
DTSTAMP:20260419T095232
CREATED:20220405T221413Z
LAST-MODIFIED:20220407T221412Z
UID:2380-1649289600-1649375999@spssalemhs.salemk12.org
SUMMARY:Autism Acceptance Spirit Week: Day 4
DESCRIPTION:
URL:https://spssalemhs.salemk12.org/event/autism-acceptance-spirit-week-day-4/
CATEGORIES:Salem High School
END:VEVENT
BEGIN:VEVENT
DTSTART;VALUE=DATE:20220406
DTEND;VALUE=DATE:20220407
DTSTAMP:20260419T095232
CREATED:20220405T221413Z
LAST-MODIFIED:20220406T221319Z
UID:2381-1649203200-1649289599@spssalemhs.salemk12.org
SUMMARY:End of QTR 3
DESCRIPTION:
URL:https://spssalemhs.salemk12.org/event/end-of-qtr-3/
CATEGORIES:Salem High School
END:VEVENT
BEGIN:VEVENT
DTSTART;VALUE=DATE:20220406
DTEND;VALUE=DATE:20220407
DTSTAMP:20260419T095232
CREATED:20220405T221413Z
LAST-MODIFIED:20220406T221319Z
UID:2382-1649203200-1649289599@spssalemhs.salemk12.org
SUMMARY:Early Release PD Day
DESCRIPTION:
URL:https://spssalemhs.salemk12.org/event/early-release-pd-day/
CATEGORIES:Salem High School
END:VEVENT
BEGIN:VEVENT
DTSTART;VALUE=DATE:20220406
DTEND;VALUE=DATE:20220407
DTSTAMP:20260419T095232
CREATED:20220405T221413Z
LAST-MODIFIED:20220406T221319Z
UID:2383-1649203200-1649289599@spssalemhs.salemk12.org
SUMMARY:Autism Acceptance Spirit Week: Day 3
DESCRIPTION:
URL:https://spssalemhs.salemk12.org/event/autism-acceptance-spirit-week-day-3/
CATEGORIES:Salem High School
END:VEVENT
BEGIN:VEVENT
DTSTART;TZID=America/New_York:20220405T183000
DTEND;TZID=America/New_York:20220405T200000
DTSTAMP:20260419T095232
CREATED:20220324T201412Z
LAST-MODIFIED:20220405T202831Z
UID:2334-1649183400-1649188800@spssalemhs.salemk12.org
SUMMARY:Community Budget Forum @ Saltonstall
DESCRIPTION:
URL:https://spssalemhs.salemk12.org/event/community-budget-forum-saltonstall/
CATEGORIES:District
END:VEVENT
BEGIN:VEVENT
DTSTART;VALUE=DATE:20220405
DTEND;VALUE=DATE:20220406
DTSTAMP:20260419T095232
CREATED:20220405T221413Z
LAST-MODIFIED:20220405T221413Z
UID:2379-1649116800-1649203199@spssalemhs.salemk12.org
SUMMARY:Autism Acceptance Spirit Week: Day 2
DESCRIPTION:
URL:https://spssalemhs.salemk12.org/event/autism-acceptance-spirit-week-day-2/
CATEGORIES:Salem High School
END:VEVENT
BEGIN:VEVENT
DTSTART;TZID=America/New_York:20220404T190000
DTEND;TZID=America/New_York:20220404T210000
DTSTAMP:20260419T095232
CREATED:20211214T171521Z
LAST-MODIFIED:20220404T202816Z
UID:1699-1649098800-1649106000@spssalemhs.salemk12.org
SUMMARY:School Committee Meeting
DESCRIPTION:
URL:https://spssalemhs.salemk12.org/event/school-committee-meeting-8/
CATEGORIES:District
END:VEVENT
BEGIN:VEVENT
DTSTART;TZID=America/New_York:20220330T180000
DTEND;TZID=America/New_York:20220330T193000
DTSTAMP:20260419T095232
CREATED:20220324T201412Z
LAST-MODIFIED:20220330T201413Z
UID:2333-1648663200-1648668600@spssalemhs.salemk12.org
SUMMARY:Community Budget Forum (virtual)
DESCRIPTION:
URL:https://spssalemhs.salemk12.org/event/community-budget-forum-virtual/
CATEGORIES:District
END:VEVENT
BEGIN:VEVENT
DTSTART;TZID=America/New_York:20220324T190000
DTEND;TZID=America/New_York:20220324T203000
DTSTAMP:20260419T095232
CREATED:20211214T171521Z
LAST-MODIFIED:20220324T201412Z
UID:1698-1648148400-1648153800@spssalemhs.salemk12.org
SUMMARY:CMS Spring Concert
DESCRIPTION:
URL:https://spssalemhs.salemk12.org/event/cms-spring-concert/
CATEGORIES:District
END:VEVENT
BEGIN:VEVENT
DTSTART;VALUE=DATE:20220323
DTEND;VALUE=DATE:20220324
DTSTAMP:20260419T095232
CREATED:20211222T201438Z
LAST-MODIFIED:20220323T201408Z
UID:1835-1647993600-1648079999@spssalemhs.salemk12.org
SUMMARY:Early release (all schools)
DESCRIPTION:
URL:https://spssalemhs.salemk12.org/event/early-release-all-schools-2/
CATEGORIES:District
END:VEVENT
BEGIN:VEVENT
DTSTART;TZID=America/New_York:20220321T190000
DTEND;TZID=America/New_York:20220321T210000
DTSTAMP:20260419T095232
CREATED:20211214T171520Z
LAST-MODIFIED:20220321T200015Z
UID:1697-1647889200-1647896400@spssalemhs.salemk12.org
SUMMARY:School Committee Meeting
DESCRIPTION:
URL:https://spssalemhs.salemk12.org/event/school-committee-meeting-7/
CATEGORIES:District
END:VEVENT
BEGIN:VEVENT
DTSTART;TZID=America/New_York:20220312T190000
DTEND;TZID=America/New_York:20220312T203000
DTSTAMP:20260419T095232
CREATED:20211214T171520Z
LAST-MODIFIED:20220311T234414Z
UID:1696-1647111600-1647117000@spssalemhs.salemk12.org
SUMMARY:CMS Musical
DESCRIPTION:
URL:https://spssalemhs.salemk12.org/event/cms-musical-3/
CATEGORIES:District
END:VEVENT
BEGIN:VEVENT
DTSTART;TZID=America/New_York:20220311T190000
DTEND;TZID=America/New_York:20220311T203000
DTSTAMP:20260419T095232
CREATED:20211214T171520Z
LAST-MODIFIED:20220311T234414Z
UID:1695-1647025200-1647030600@spssalemhs.salemk12.org
SUMMARY:CMS Musical
DESCRIPTION:
URL:https://spssalemhs.salemk12.org/event/cms-musical-2/
CATEGORIES:District
END:VEVENT
BEGIN:VEVENT
DTSTART;TZID=America/New_York:20220310T190000
DTEND;TZID=America/New_York:20220310T203000
DTSTAMP:20260419T095232
CREATED:20211214T171520Z
LAST-MODIFIED:20220310T233016Z
UID:1694-1646938800-1646944200@spssalemhs.salemk12.org
SUMMARY:CMS Musical
DESCRIPTION:
URL:https://spssalemhs.salemk12.org/event/cms-musical/
CATEGORIES:District
END:VEVENT
BEGIN:VEVENT
DTSTART;VALUE=DATE:20220309
DTEND;VALUE=DATE:20220310
DTSTAMP:20260419T095232
CREATED:20211222T201426Z
LAST-MODIFIED:20220309T233016Z
UID:1834-1646784000-1646870399@spssalemhs.salemk12.org
SUMMARY:Early release (all schools)
DESCRIPTION:
URL:https://spssalemhs.salemk12.org/event/early-release-all-schools/
CATEGORIES:District
END:VEVENT
BEGIN:VEVENT
DTSTART;TZID=America/New_York:20220307T190000
DTEND;TZID=America/New_York:20220307T210000
DTSTAMP:20260419T095232
CREATED:20211214T171520Z
LAST-MODIFIED:20220305T231410Z
UID:1693-1646679600-1646686800@spssalemhs.salemk12.org
SUMMARY:School Committee Meeting
DESCRIPTION:
URL:https://spssalemhs.salemk12.org/event/school-committee-meeting-6/
CATEGORIES:District
END:VEVENT
BEGIN:VEVENT
DTSTART;TZID=America/New_York:20220228T190000
DTEND;TZID=America/New_York:20220228T210000
DTSTAMP:20260419T095232
CREATED:20211214T171520Z
LAST-MODIFIED:20220228T224412Z
UID:1692-1646074800-1646082000@spssalemhs.salemk12.org
SUMMARY:School Committee Meeting
DESCRIPTION:
URL:https://spssalemhs.salemk12.org/event/school-committee-meeting-5/
CATEGORIES:District
END:VEVENT
BEGIN:VEVENT
DTSTART;VALUE=DATE:20220221
DTEND;VALUE=DATE:20220226
DTSTAMP:20260419T095232
CREATED:20211220T195905Z
LAST-MODIFIED:20220225T224414Z
UID:1817-1645401600-1645833599@spssalemhs.salemk12.org
SUMMARY:February Break for all Schools
DESCRIPTION:
URL:https://spssalemhs.salemk12.org/event/february-break-for-all-schools/
CATEGORIES:District
END:VEVENT
BEGIN:VEVENT
DTSTART;TZID=America/New_York:20220215T190000
DTEND;TZID=America/New_York:20220215T203000
DTSTAMP:20260419T095232
CREATED:20211214T171520Z
LAST-MODIFIED:20220215T215957Z
UID:1691-1644951600-1644957000@spssalemhs.salemk12.org
SUMMARY:All City Beginner Concert
DESCRIPTION:
URL:https://spssalemhs.salemk12.org/event/all-city-beginner-concert/
LOCATION:Salem High School\, 77 Willson St\, Salem\, MA 01970\, USA
CATEGORIES:District
END:VEVENT
BEGIN:VEVENT
DTSTART;TZID=America/New_York:20220207T190000
DTEND;TZID=America/New_York:20220207T210000
DTSTAMP:20260419T095232
CREATED:20211214T171508Z
LAST-MODIFIED:20220207T214413Z
UID:1689-1644260400-1644267600@spssalemhs.salemk12.org
SUMMARY:School Committee Meeting
DESCRIPTION:
URL:https://spssalemhs.salemk12.org/event/school-committee-meeting-4/
CATEGORIES:District
END:VEVENT
BEGIN:VEVENT
DTSTART;VALUE=DATE:20220126
DTEND;VALUE=DATE:20220127
DTSTAMP:20260419T095232
CREATED:20211222T201414Z
LAST-MODIFIED:20220126T212925Z
UID:1833-1643155200-1643241599@spssalemhs.salemk12.org
SUMMARY:Early Release Day (all schools)
DESCRIPTION:
URL:https://spssalemhs.salemk12.org/event/early-release-day-all-schools/
CATEGORIES:District
END:VEVENT
BEGIN:VEVENT
DTSTART;TZID=America/New_York:20220120T183000
DTEND;TZID=America/New_York:20220120T200000
DTSTAMP:20260419T095232
CREATED:20220110T204331Z
LAST-MODIFIED:20220118T211330Z
UID:1912-1642703400-1642708800@spssalemhs.salemk12.org
SUMMARY:Early Childhood Virtual Expo
DESCRIPTION:Hi there\,\nYou are invited to a Zoom webinar.\nWhen: Jan 20\, 2022 06:30 PM Eastern Time (US and Canada)\nTopic: SPS Early Childhood Virtual Expo\nPlease click the link below to join the webinar:\nhttps://us06web.zoom.us/j/81810021189?pwd=UC8yNE9GNUtLekhUZGIvSWp3Ym9FQT09\nPasscode: 475364\nOr One tap mobile :\n    US: +13017158592\,\,81810021189#\,\,\,\,*475364#  or +13126266799\,\,81810021189#\,\,\,\,*475364#\nOr Telephone:\n    Dial(for higher quality\, dial a number based on your current location):\n        US: +1 301 715 8592  or +1 312 626 6799  or +1 646 558 8656  or +1 253 215 8782  or +1 346 248 7799  or +1 720 707 2699\nWebinar ID: 818 1002 1189\nPasscode: 475364\n    International numbers available: https://us06web.zoom.us/u/kegpYWMPrg
URL:https://spssalemhs.salemk12.org/event/early-childhood-virtual-expo/
LOCATION:https://us06web.zoom.us/j/81810021189?pwd=UC8yNE9GNUtLekhUZGIvSWp3Ym9FQT09
CATEGORIES:District
END:VEVENT
END:VCALENDAR